BEGIN:VCALENDAR
VERSION:2.0
PRODID:-//Savannah Tree Foundation - ECPv6.15.20//NONSGML v1.0//EN
CALSCALE:GREGORIAN
METHOD:PUBLISH
X-ORIGINAL-URL:https://savannahtree.org
X-WR-CALDESC:Events for Savannah Tree Foundation
REFRESH-INTERVAL;VALUE=DURATION:PT1H
X-Robots-Tag:noindex
X-PUBLISHED-TTL:PT1H
BEGIN:VTIMEZONE
TZID:UTC
BEGIN:STANDARD
TZOFFSETFROM:+0000
TZOFFSETTO:+0000
TZNAME:UTC
DTSTART:20250101T000000
END:STANDARD
END:VTIMEZONE
BEGIN:VEVENT
DTSTART;TZID=UTC:20260425T090000
DTEND;TZID=UTC:20260425T120000
DTSTAMP:20260424T155938
CREATED:20260401T163644Z
LAST-MODIFIED:20260401T195815Z
UID:237560-1777107600-1777118400@savannahtree.org
SUMMARY:Tree Paddle Little Tybee Island!
DESCRIPTION:Tree Paddle to Little Tybee Island\nSaturday\, April 25 | 9:00 AM – 12:00 PM3-Hour Guided Kayak Tour\nJoin us for a special morning on the water as we paddle through the scenic salt marshes and tidal creeks surrounding Little Tybee Island. This three hour guided kayak tour offers a unique opportunity to experience our coastal forests from a new perspective while learning about the native trees\, maritime ecosystems\, and wildlife that make this barrier island so special.\nLed by professional guides\, this tour is welcoming to all experience levels\, including beginners. Along the way\, we will explore winding marsh channels\, observe shorebirds and other coastal wildlife\, and discuss the importance of protecting our maritime forests and coastal canopy.\nAll kayaking equipment is provided\, including kayak\, paddle\, and life jacket. A safety briefing and basic instruction will be given before launch.\nCome connect with nature\, community\, and the trees of our coast in one of the most beautiful and wild places in the Savannah area.\nSign Up Here!
URL:https://savannahtree.org/event/tree-paddle-little-tybee-island/
LOCATION:Alley #3 on Tybee Island\, 9 Alley St\, Tybee Island\, GA\, 31218\, United States
CATEGORIES:Fundraiser,Learning Event,Outreach Event
ATTACH;FMTTYPE=image/png:https://savannahtree.org/wp-content/uploads/2026/03/Tree-Paddle-1.png
END:VEVENT
BEGIN:VEVENT
DTSTART;TZID=UTC:20260426T100000
DTEND;TZID=UTC:20260426T150000
DTSTAMP:20260424T155938
CREATED:20260401T151022Z
LAST-MODIFIED:20260401T195242Z
UID:237548-1777197600-1777215600@savannahtree.org
SUMMARY:Green Week Nursery Fest!
DESCRIPTION:Join us for Nursery Fest at STF’s very own Nursery! Local vendors\, kids crafts\, educational talks\, tours\, music and a tree giveaway! Don’t miss out!\nSign Up!
URL:https://savannahtree.org/event/green-week-nursery-fest/
LOCATION:STF Nursery\, E Presidents St. and Kemira Rd.\, Savannah\, Georgia\, 31404
CATEGORIES:Fundraiser,Nursery Projects,Outreach Event
ATTACH;FMTTYPE=image/png:https://savannahtree.org/wp-content/uploads/2026/04/NURSERY-DAY-Festival-Vibe-6-1.png
END:VEVENT
END:VCALENDAR