BEGIN:VCALENDAR
VERSION:2.0
PRODID:-//Savannah Tree Foundation - ECPv6.15.20//NONSGML v1.0//EN
CALSCALE:GREGORIAN
METHOD:PUBLISH
X-WR-CALNAME:Savannah Tree Foundation
X-ORIGINAL-URL:https://savannahtree.org
X-WR-CALDESC:Events for Savannah Tree Foundation
REFRESH-INTERVAL;VALUE=DURATION:PT1H
X-Robots-Tag:noindex
X-PUBLISHED-TTL:PT1H
BEGIN:VTIMEZONE
TZID:UTC
BEGIN:STANDARD
TZOFFSETFROM:+0000
TZOFFSETTO:+0000
TZNAME:UTC
DTSTART:20240101T000000
END:STANDARD
END:VTIMEZONE
BEGIN:VEVENT
DTSTART;TZID=UTC:20260422T170000
DTEND;TZID=UTC:20260422T200000
DTSTAMP:20260423T185759
CREATED:20260401T150057Z
LAST-MODIFIED:20260401T195853Z
UID:237544-1776877200-1776888000@savannahtree.org
SUMMARY:Green Week Earth Day Plant Swap at Hop Atomica!
DESCRIPTION:Bring a plant. Take a plant. Earth Day plant swap hosted by Hop Atomica! Join STF\, Good Clean Fun\, Em Pottery\, Savannah Urbanist Society\, Savannah Hydro and music by Trey Cooper!
URL:https://savannahtree.org/event/green-week-earth-day-plant-swap-at-hop-atomica/
LOCATION:Hop Atomica\, 535 E 39th St\, Savannah\, GA\, 31401\, United States
CATEGORIES:Fundraiser,Outreach Event,Planting Initiatives
ATTACH;FMTTYPE=image/webp:https://savannahtree.org/wp-content/uploads/2026/04/EARTHDAYPLANTSWAP_HOPATOMICA-1-1.webp
END:VEVENT
BEGIN:VEVENT
DTSTART;TZID=UTC:20260421T090000
DTEND;TZID=UTC:20260421T120000
DTSTAMP:20260423T185759
CREATED:20260401T145741Z
LAST-MODIFIED:20260401T200046Z
UID:237538-1776762000-1776772800@savannahtree.org
SUMMARY:Green Week Invasive Removal Day!
DESCRIPTION:Learn to identify\, remove and restore our urban canopy by removing invasive species.\nSign Up!
URL:https://savannahtree.org/event/invasive-removal-day/
LOCATION:West Lake Neighborhood Park\, Westlake Avenue\, Savannah\, Georgia\, 31405\, United States
CATEGORIES:Learning Event,Outreach Event
ATTACH;FMTTYPE=image/png:https://savannahtree.org/wp-content/uploads/2026/04/Green-Week-Invasive-Removal-Day-1.png
ORGANIZER;CN="Savannah Tree Foundation":MAILTO:info@savannahtree.com
END:VEVENT
BEGIN:VEVENT
DTSTART;TZID=UTC:20260418T180000
DTEND;TZID=UTC:20260418T220000
DTSTAMP:20260423T185759
CREATED:20260123T165106Z
LAST-MODIFIED:20260401T195958Z
UID:237452-1776535200-1776549600@savannahtree.org
SUMMARY:Green Gala 2026
DESCRIPTION:Join us at one of Savannah’s most beautiful venues as we celebrate The Hostess City’s iconic tree canopy and raise funds to advance STF’s mission. Secure a seat at Savannah’s favorite spring soiree by committing to a sponsorship or purchasing your ticket online. The evening will feature carefully crafted cuisine\, thoughtfully curated auction items\, open bar\, and live band to dance the night away. Highlighting the event will be recognition of our 2026 Tree Champions – an impressive group of individuals\, businesses\, and corporations from across the Savannah area.\n  \nTicket Purchase and Sponsorship Package\n 
URL:https://savannahtree.org/event/green-gala-2026/
LOCATION:700 Wilmington Island\, 700 Wilmington Island Road\, Savannah\, GA\, 31410\, United States
CATEGORIES:Fundraiser
ATTACH;FMTTYPE=image/png:https://savannahtree.org/wp-content/uploads/2026/01/Screenshot-2026-01-14-144805.png
ORGANIZER;CN="Savannah Tree Foundation":MAILTO:info@savannahtree.com
END:VEVENT
BEGIN:VEVENT
DTSTART;TZID=UTC:20260328T090000
DTEND;TZID=UTC:20260328T120000
DTSTAMP:20260423T185759
CREATED:20260219T185052Z
LAST-MODIFIED:20260219T185052Z
UID:237508-1774688400-1774699200@savannahtree.org
SUMMARY:Salt Creek Park Planting Event!
DESCRIPTION:Join us for a community planting event at Salt Creek Park to plant new trees that will provide shade and enjoyment.\nSign Up!
URL:https://savannahtree.org/event/salt-creek-park-planting-event/
LOCATION:Salt Creek Park\, 5321 Ogeechee Rd\, Savannah\, GA\, 31419\, United States
END:VEVENT
BEGIN:VEVENT
DTSTART;TZID=UTC:20260321T100000
DTEND;TZID=UTC:20260321T140000
DTSTAMP:20260423T185759
CREATED:20260224T150253Z
LAST-MODIFIED:20260224T150420Z
UID:237518-1774087200-1774101600@savannahtree.org
SUMMARY:Growing Savannah Spring Tree Giveaway!
DESCRIPTION:Join us for our Spring Tree Giveaway in conjunction with the Coastal Georgia Botanical Garden’s Native Plant Sale\nSign Up!\n\n  \n 
URL:https://savannahtree.org/event/growing-savannah-spring-tree-giveaway/
LOCATION:Coastal Georgia Botanical Gardens\, 2 Canebrake Rd\, Savannah\, GA\, 31419\, United States
END:VEVENT
BEGIN:VEVENT
DTSTART;TZID=UTC:20260321T090000
DTEND;TZID=UTC:20260321T120000
DTSTAMP:20260423T185759
CREATED:20251211T193517Z
LAST-MODIFIED:20260128T163030Z
UID:237406-1774083600-1774094400@savannahtree.org
SUMMARY:Bee Road & Walking Trail
DESCRIPTION:Join us for a community planting event at Bee Road & Walking Trail to plant new trees that will provide shade and enjoyment.\nSign Up!
URL:https://savannahtree.org/event/bee-road-walking-trail/
LOCATION:Bee Road & Walking Trail\, 1502 Bee Rd\, Savannah\, GA\, 31404\, United States
END:VEVENT
BEGIN:VEVENT
DTSTART;TZID=UTC:20260314T090000
DTEND;TZID=UTC:20260314T120000
DTSTAMP:20260423T185759
CREATED:20260220T201846Z
LAST-MODIFIED:20260310T154254Z
UID:237515-1773478800-1773489600@savannahtree.org
SUMMARY:Tree Giveaway in Pooler!
DESCRIPTION:Join us for a tree giveaway with the city of Pooler! \nSign Up!
URL:https://savannahtree.org/event/tree-giveaway-in-pooler/
LOCATION:Pooler Recreation Park\, 200 Preston Stokes Dr\, Pooler\, GA\, 31322\, United States
END:VEVENT
BEGIN:VEVENT
DTSTART;TZID=UTC:20260307T090000
DTEND;TZID=UTC:20260307T120000
DTSTAMP:20260423T185759
CREATED:20260209T193516Z
LAST-MODIFIED:20260302T195043Z
UID:237485-1772874000-1772884800@savannahtree.org
SUMMARY:Red Cross Tree Planting
DESCRIPTION:Join us for a community planting event at the new American Red Cross facility!\nSign Up!
URL:https://savannahtree.org/event/red-cross-tree-planting/
LOCATION:American Red Cross\, 2500 E. President Street\, Savannah\, GA\, 31404\, United States
END:VEVENT
BEGIN:VEVENT
DTSTART;TZID=UTC:20260228T120000
DTEND;TZID=UTC:20260228T170000
DTSTAMP:20260423T185759
CREATED:20260129T191635Z
LAST-MODIFIED:20260129T191635Z
UID:237464-1772280000-1772298000@savannahtree.org
SUMMARY:The Oyster Roast For The Coast
DESCRIPTION:The Georgia Conservancy Oyster Roast is a cherished annual fundraiser celebrating and protecting Georgia’s irreplaceable 100-mile coastline. Hosted by the Georgia Conservancy—which has championed coastal conservation for nearly 60 years—this event brings together community members passionate about safeguarding our land\, water\, and natural heritage.\nSavannah Tree Foundation (STF) will be attending! Stop by our booth to learn about our tree-planting initiatives\, urban canopy efforts in Chatham County\, and how we’re working alongside partners like the Georgia Conservancy to enhance green spaces\, improve air quality\, and build resilient coastal ecosystems. \nLearn more about the oyster roast here!
URL:https://savannahtree.org/event/the-oyster-roast-for-the-coast/
LOCATION:Grove Point Savannah\, 0 Shore Rd\, Savannah\, GA\, 31419\, United States
END:VEVENT
BEGIN:VEVENT
DTSTART;TZID=UTC:20260228T100000
DTEND;TZID=UTC:20260228T130000
DTSTAMP:20260423T185759
CREATED:20260129T191542Z
LAST-MODIFIED:20260129T191542Z
UID:237463-1772272800-1772283600@savannahtree.org
SUMMARY:Seuss Fest
DESCRIPTION:You’re invited to celebrate reading at Seuss Fest 2026 at the Savannah Children’s Museum!\n10AM-1PM Saturday\, February 28th\nAttendees are encouraged to dress up as your favorite Dr. Seuss character.\nThis annual event features stories\, games\, arts & crafts\, playful activities\, and a scavenger hunt.\nSeuss Fest is proudly sponsored by Calvary Day School in Savannah.\nCommunity partners joining us to offer Seuss Fest fun include:\nThe Magical World of Toys; Knack Studio; Oatland Island Wildlife Center; Skidaway Island State Park; Memorial Health Dwaine & Cynthia Willet Children’s Hospital of Savannah; The Little Gym of Savannah; artist Mya Timmons (creator of The Gullah Geechee Plant Guide Coloring Book and Geechee Head Art); Savannah Tree Foundation; Live Oak Public Library; Starbase; Snapology.\nOh Crepe and Leopold’s Cream will be on-site with food available for purchase.\nAdmission:\nIncluded with regular museum admission: $16 for all guests 18 months and older\nFREE for Coastal Heritage Society members (plus 10% off in the gift shop!). Become a member here. (Family membership is $125 for a year which includes unlimited admission to all six Coastal Heritage Society sites and more)\n\n 
URL:https://savannahtree.org/event/seuss-fest-2/
LOCATION:Savannah Children’s Museum\, 655 Louisville Rd\, Savannah\, GA\, 31401\, United States
CATEGORIES:Learning Event,Outreach Event
END:VEVENT
BEGIN:VEVENT
DTSTART;TZID=UTC:20260228T090000
DTEND;TZID=UTC:20260228T120000
DTSTAMP:20260423T185759
CREATED:20251211T195948Z
LAST-MODIFIED:20260219T185752Z
UID:237419-1772269200-1772280000@savannahtree.org
SUMMARY:Greenwich Cemetery
DESCRIPTION:Join us for a community planting event at Greenwich Cemetery to plant new trees that will provide shade and enjoyment.\nSign Up!
URL:https://savannahtree.org/event/greenwich-cemetery/
LOCATION:Greenwich Cemetery\, 330 Greenwich Rd\, Savannah\, GA\, 31404\, United States
END:VEVENT
BEGIN:VEVENT
DTSTART;TZID=UTC:20260221T090000
DTEND;TZID=UTC:20260221T120000
DTSTAMP:20260423T185759
CREATED:20251211T195446Z
LAST-MODIFIED:20251211T195446Z
UID:237416-1771664400-1771675200@savannahtree.org
SUMMARY:SeaPoint Complex (phase 1)
DESCRIPTION:Join us for a community planting event at SeaPoint Complex to plant new trees that will provide shade and enjoyment.\nSign Up!
URL:https://savannahtree.org/event/seapoint-complex-phase-1/
LOCATION:Seapoint Complex\, 100 Kemira Road\, Savannah\, GA\, 31404\, United States
END:VEVENT
BEGIN:VEVENT
DTSTART;TZID=UTC:20260214T090000
DTEND;TZID=UTC:20260214T120000
DTSTAMP:20260423T185759
CREATED:20251211T194726Z
LAST-MODIFIED:20251211T194726Z
UID:237413-1771059600-1771070400@savannahtree.org
SUMMARY:Laurel Grove Cemetery South (phase 3)
DESCRIPTION:Join us for a community planting event at Laurel Grove Cemetery South to plant new trees that will provide shade and enjoyment.\n Sign Up!
URL:https://savannahtree.org/event/laurel-grove-cemetery-south-phase-3/
LOCATION:Laurel Grove Cemetary\, 802 W Anderson St\, Savannah\, GA\, 31415\, United States
END:VEVENT
BEGIN:VEVENT
DTSTART;TZID=UTC:20260207T090000
DTEND;TZID=UTC:20260207T120000
DTSTAMP:20260423T185759
CREATED:20251211T194100Z
LAST-MODIFIED:20260113T210055Z
UID:237409-1770454800-1770465600@savannahtree.org
SUMMARY:Laurel Grove Cemetery North (phase 2)
DESCRIPTION:Join us for our annual memorial and honoree planting at Laurel Grove Cemetery North. This will be an opportunity to plant trees in recognition of those we have lost or want to recognize in a special way.   \nSign Up!\n \n 
URL:https://savannahtree.org/event/laurel-grove-cemetery-north-phase-2/
LOCATION:Laurel Grove Cemetery North\, 802 West Anderson Street\, Savannah\, GA\, 31415\, United States
END:VEVENT
BEGIN:VEVENT
DTSTART;TZID=UTC:20260110T090000
DTEND;TZID=UTC:20260110T120000
DTSTAMP:20260423T185759
CREATED:20251211T192818Z
LAST-MODIFIED:20251211T192818Z
UID:237402-1768035600-1768046400@savannahtree.org
SUMMARY:Twickenham Park
DESCRIPTION:Join us for a community planting event at Twickenham Park to plant new trees that will provide shade and enjoyment.\nSign Up!
URL:https://savannahtree.org/event/twickenham-park/
LOCATION:Twickingham Park\, Goebel Ave & East President Street\, Savannah\, GA\, 31404\, United States
END:VEVENT
BEGIN:VEVENT
DTSTART;TZID=UTC:20251213T090000
DTEND;TZID=UTC:20251213T130000
DTSTAMP:20260423T185759
CREATED:20251201T190734Z
LAST-MODIFIED:20251209T201333Z
UID:237347-1765616400-1765630800@savannahtree.org
SUMMARY:HOLIDAY TREE GIVEAWAY
DESCRIPTION:Celebrate the Holiday Season with a free tree to spruce up your yard\nJoin us December 13th at Tricentennial Park for our final tree giveaway of the year. We will be giving away 500 trees from 9:00am – 1:00pm\, or until supplies last
URL:https://savannahtree.org/event/holiday-tree-giveaway/
LOCATION:Tricentennial Park\, 655 Louisville Rd\, Savannah\, GA\, 31401\, United States
END:VEVENT
BEGIN:VEVENT
DTSTART;TZID=UTC:20251206T090000
DTEND;TZID=UTC:20251206T120000
DTSTAMP:20260423T185759
CREATED:20250828T200140Z
LAST-MODIFIED:20251113T154306Z
UID:237256-1765011600-1765022400@savannahtree.org
SUMMARY:Al Bungard Conservation Area (Phase 3)
DESCRIPTION:Join us for a community planting event at AI Bungard Conservation Area to plant 40 new trees to provide shade and enjoyment.\nSign Up!
URL:https://savannahtree.org/event/al-bungard-conservation-area-phase-3/
LOCATION:Al Bungard Conservation Area\, 6700 Chief Of Love Road\, Savannah\, GA\, 31419\, United States
CATEGORIES:Learning Event,Outreach Event,Planting Initiatives
END:VEVENT
BEGIN:VEVENT
DTSTART;TZID=UTC:20251129T090000
DTEND;TZID=UTC:20251129T120000
DTSTAMP:20260423T185759
CREATED:20250828T200004Z
LAST-MODIFIED:20251010T154956Z
UID:237253-1764406800-1764417600@savannahtree.org
SUMMARY:Salt Creek Boat Ramp
DESCRIPTION:Join us for a community planting event at Salt Creek Boat Ramp to plant 23 new trees to provide shade and enjoyment.\nSign Up!
URL:https://savannahtree.org/event/salt-creek-boat-ramp/
LOCATION:Salt Creek Park\, 5321 Ogeechee Rd\, Savannah\, GA\, 31419\, United States
CATEGORIES:Learning Event,Outreach Event,Planting Initiatives
END:VEVENT
BEGIN:VEVENT
DTSTART;TZID=UTC:20251122T090000
DTEND;TZID=UTC:20251122T120000
DTSTAMP:20260423T185759
CREATED:20250828T195731Z
LAST-MODIFIED:20251010T154538Z
UID:237250-1763802000-1763812800@savannahtree.org
SUMMARY:Rodney J. Hall Boat Ramp
DESCRIPTION:Join us for a community planting event at Rodney J. Hall Boat Ramp to plant 47 new trees to provide shade and enjoyment.\nSign Up!
URL:https://savannahtree.org/event/rodney-j-hall-boat-ramp/
LOCATION:Rodney J. Hall Boat Ramp\, 25 Diamond Causeway\, Savannah\, GA\, 31406\, United States
CATEGORIES:Learning Event,Outreach Event,Planting Initiatives
END:VEVENT
BEGIN:VEVENT
DTSTART;TZID=UTC:20251115T090000
DTEND;TZID=UTC:20251115T120000
DTSTAMP:20260423T185759
CREATED:20250828T195524Z
LAST-MODIFIED:20251010T161041Z
UID:237247-1763197200-1763208000@savannahtree.org
SUMMARY:Kings Ferry Boat Ramp
DESCRIPTION:Join us for a community planting event at Kings Ferry Boat Ramp to plant 43 new trees to provide shade and enjoyment.\nSign Up!
URL:https://savannahtree.org/event/kings-ferry-boat-ramp/
LOCATION:Kings Ferry Boat Ramp\, 6851 Ogeechee Rd\, 31419\, United States
CATEGORIES:Learning Event,Outreach Event,Planting Initiatives
END:VEVENT
BEGIN:VEVENT
DTSTART;TZID=UTC:20251108T090000
DTEND;TZID=UTC:20251108T120000
DTSTAMP:20260423T185759
CREATED:20250828T195138Z
LAST-MODIFIED:20251010T150540Z
UID:237244-1762592400-1762603200@savannahtree.org
SUMMARY:Bona Bella Park
DESCRIPTION:Join us for a community planting event at Bona Bella Park to plant 30 new trees to provide shade and enjoyment!\nSign Up!
URL:https://savannahtree.org/event/bona-bella-park/
LOCATION:Bona Bella Park\, 2778 Carmel Ave\, Savannah\, GA\, 31406\, United States
CATEGORIES:Learning Event,Outreach Event,Planting Initiatives
END:VEVENT
BEGIN:VEVENT
DTSTART;TZID=UTC:20251106T180000
DTEND;TZID=UTC:20251106T210000
DTSTAMP:20260423T185759
CREATED:20251009T163204Z
LAST-MODIFIED:20251009T164819Z
UID:237270-1762452000-1762462800@savannahtree.org
SUMMARY:Fall Frolic 2025
DESCRIPTION:Fall Frolic\nSavor the season with Savannah Tree Foundation at our Fall Frolic\, a coastal soirée beneath the autumn sky. \nPurchase Tickets using the Website Link Below
URL:https://savannahtree.org/event/2025-fall-frolic/
LOCATION:Burnside Island\, 36 Amanda Drive\, Savannah\, GA\, 31406\, United States
END:VEVENT
BEGIN:VEVENT
DTSTART;TZID=UTC:20251101T090000
DTEND;TZID=UTC:20251101T120000
DTSTAMP:20260423T185759
CREATED:20250828T194929Z
LAST-MODIFIED:20251009T185244Z
UID:237241-1761987600-1761998400@savannahtree.org
SUMMARY:Ambuc Park (Phase 2)
DESCRIPTION:Join us for a community planting event at Ambuc Park to plant 25 new trees around the baseball field.\nSign Up
URL:https://savannahtree.org/event/ambuc-park-phase-2/
LOCATION:Ambuc Park\, 7230 Sallie Mood Dr\, Savannah\, GA\, 31406\, United States
CATEGORIES:Learning Event,Outreach Event,Planting Initiatives
END:VEVENT
BEGIN:VEVENT
DTSTART;TZID=UTC:20251025T090000
DTEND;TZID=UTC:20251025T120000
DTSTAMP:20260423T185759
CREATED:20251021T193257Z
LAST-MODIFIED:20251021T193738Z
UID:237326-1761382800-1761393600@savannahtree.org
SUMMARY:Trick or Trees
DESCRIPTION:Come get your free trees this Saturday\, October 25th at St. Andrew’s School\, from 9:00am-12:00pm (or until supplies last)
URL:https://savannahtree.org/event/trick-or-trees/
LOCATION:St Andrew’s School\, 601 Penn Waller Rd\, Savannah\, GA\, 31410\, United States
END:VEVENT
BEGIN:VEVENT
DTSTART;TZID=UTC:20251004T090000
DTEND;TZID=UTC:20251004T120000
DTSTAMP:20260423T185759
CREATED:20250828T185933Z
LAST-MODIFIED:20250828T185933Z
UID:237238-1759568400-1759579200@savannahtree.org
SUMMARY:Burton 4H Center
DESCRIPTION:This planting is still growing! More details to come!
URL:https://savannahtree.org/event/burton-4h-center/
LOCATION:Burton 4H Center\, 9 Lewis Ave\, Tybee Island\, GA\, 31328\, United States
CATEGORIES:Learning Event,Outreach Event,Planting Initiatives
END:VEVENT
BEGIN:VEVENT
DTSTART;TZID=UTC:20250925T170000
DTEND;TZID=UTC:20250925T200000
DTSTAMP:20260423T185759
CREATED:20250819T193720Z
LAST-MODIFIED:20250819T194447Z
UID:237230-1758819600-1758830400@savannahtree.org
SUMMARY:Tree Huggers + Beer Chuggers 2025
DESCRIPTION:Everyone’s favorite fall friend-raiser is back and better than ever! Join us at Hester & Zipperer for our 2025 Tree Huggers & Beer Chuggers event! Spend time with your favorite tree huggers and meet new tree friends at this casual event. $30 gets you in the door\, and 100% of proceeds support Savannah Tree Foundation and its planting efforts. \nPhilly Boys will be on site for food purchases. \nGet your tickets here.
URL:https://savannahtree.org/event/tree-huggers-beer-chuggers-2025/
LOCATION:Hester & Zipperer\, 6719 Skidaway Road\, Savannah\, GS\, 31406
CATEGORIES:Fundraiser
ATTACH;FMTTYPE=image/jpeg:https://savannahtree.org/wp-content/uploads/2025/08/thbc_2025_flyer.jpeg
ORGANIZER;CN="Savannah Tree Foundation":MAILTO:info@savannahtree.com
END:VEVENT
BEGIN:VEVENT
DTSTART;TZID=UTC:20250719T090000
DTEND;TZID=UTC:20250719T230000
DTSTAMP:20260423T185759
CREATED:20250707T125207Z
LAST-MODIFIED:20250707T142338Z
UID:237208-1752915600-1752966000@savannahtree.org
SUMMARY:Stormwater Workshop
DESCRIPTION:Join us for a morning workshop at the STF Community Nursery. We will be talking all things stormwater and trees! Decorate and take home a free rain barrel for your garden\, provided by the city of savannah (must be a city resident to qualify). Trees available for purchase on site.\nNOTE: Participants must be able to show proof of Savannah Water services and residency to qualify for rain barrel. One Barrel per household.\nWe appreciate your support and hope to see you there! Sign up – spots are limited.
URL:https://savannahtree.org/event/stormwater-workshop/
LOCATION:STF Nursery\, E Presidents St. and Kemira Rd.\, Savannah\, Georgia\, 31404
CATEGORIES:Learning Event,Nursery Projects,Outreach Event
END:VEVENT
BEGIN:VEVENT
DTSTART;TZID=UTC:20250427T100000
DTEND;TZID=UTC:20250427T110000
DTSTAMP:20260423T185759
CREATED:20250411T160810Z
LAST-MODIFIED:20250415T171038Z
UID:237129-1745748000-1745751600@savannahtree.org
SUMMARY:Yoga Under the Candler Oak
DESCRIPTION:Start your Sunday off with an outdoor yoga session under the branches of the Candler Oak with yoga instructor\, Ashley Kendrick.\nSign Up Here
URL:https://savannahtree.org/event/yoga-under-the-candler-oak/
LOCATION:Candler Oak\, 516 Drayton St.\, Savannah\, GA\, 31401\, United States
CATEGORIES:Fundraiser
ATTACH;FMTTYPE=image/png:https://savannahtree.org/wp-content/uploads/2025/04/Yoga-Under-the-Candler-Oak-3.png
ORGANIZER;CN="Savannah Tree Foundation":MAILTO:info@savannahtree.com
END:VEVENT
BEGIN:VEVENT
DTSTART;TZID=UTC:20250426T190000
DTEND;TZID=UTC:20250426T200000
DTSTAMP:20260423T185759
CREATED:20250408T224322Z
LAST-MODIFIED:20250415T171224Z
UID:236958-1745694000-1745697600@savannahtree.org
SUMMARY:Jokes for Oaks: A Benefit for Savannah’s Trees
DESCRIPTION:Join us at Front Porch Improv for a night of laughter\, community\, and giving back at Jokes for Oaks! This live improv comedy show will be dedicated to supporting the Savannah Tree Foundation\, helping preserve and protect the unique tree canopy of Savannah. \nGet ready for an evening of spontaneous humor\, unexpected laughs\, and a whole lot of fun\, all for a great cause. Every ticket sold will help plant trees\, support our nursery\, maintain our urban forests\, and keep Savannah green for generations to come. \nWhether you’re a long-time tree lover or just looking for a good laugh\, this show is perfect for all. Bring your friends\, your sense of humor\, and your love of nature for what is sure to be a TREE-mendously good time! \nAll ticket sale proceeds benefit the Savannah Tree Foundation. Click here to buy your tickets!
URL:https://savannahtree.org/event/jokes-for-oaks-a-benefit-for-savannahs-trees/
LOCATION:Front Porch Improv\, 210 W. Victory Drive\, Savannah\, GA\, 31405\, United States
CATEGORIES:Fundraiser,Outreach Event
ATTACH;FMTTYPE=image/png:https://savannahtree.org/wp-content/uploads/2025/04/Green-Week-Improv-Night-4.26.2025.png
ORGANIZER;CN="Savannah Tree Foundation":MAILTO:info@savannahtree.com
END:VEVENT
BEGIN:VEVENT
DTSTART;TZID=UTC:20250425T160000
DTEND;TZID=UTC:20250425T193000
DTSTAMP:20260423T185759
CREATED:20250411T153043Z
LAST-MODIFIED:20250411T153043Z
UID:237110-1745596800-1745609400@savannahtree.org
SUMMARY:Earth Day Savannah Festival
DESCRIPTION:Earth Day Savannah 2025: Celebrating 25 Years of Environmental Impact\nEarth Day Savannah is an annual event that celebrates environmental sustainability and conservation efforts in our community. Individuals\, organizations\, and businesses come together to protect the planet and promote eco-friendly practices. This year’s theme\, “25 Years of Earth Day Savannah\,” honors a quarter-century of community-driven environmental action and progress in the Coastal Empire.\nAs we mark this milestone\, our goal is not only to celebrate but to inspire lasting change. We believe environmental consciousness should extend beyond a single day\, becoming part of the fabric of everyday life. By encouraging everyone to embrace eco-friendly practices daily\, we strive to cultivate a collective mindset of sustainability—where every small\, mindful choice contributes to a greener future.\nLearn More Here!\n 
URL:https://savannahtree.org/event/earth-day-savannah-festival/
LOCATION:Daffin Park\, E Victory Dr\, Savannah\, Georgia\, 31404
CATEGORIES:Fundraiser,Learning Event,Outreach Event
END:VEVENT
END:VCALENDAR