BEGIN:VCALENDAR
VERSION:2.0
PRODID:-//Savannah Tree Foundation - ECPv6.15.20//NONSGML v1.0//EN
CALSCALE:GREGORIAN
METHOD:PUBLISH
X-ORIGINAL-URL:https://savannahtree.org
X-WR-CALDESC:Events for Savannah Tree Foundation
REFRESH-INTERVAL;VALUE=DURATION:PT1H
X-Robots-Tag:noindex
X-PUBLISHED-TTL:PT1H
BEGIN:VTIMEZONE
TZID:UTC
BEGIN:STANDARD
TZOFFSETFROM:+0000
TZOFFSETTO:+0000
TZNAME:UTC
DTSTART:20230101T000000
END:STANDARD
END:VTIMEZONE
BEGIN:VEVENT
DTSTART;TZID=UTC:20250419T100000
DTEND;TZID=UTC:20250419T113000
DTSTAMP:20260423T230602
CREATED:20250401T145348Z
LAST-MODIFIED:20250415T154956Z
UID:236909-1745056800-1745062200@savannahtree.org
SUMMARY:Lewis C. Mobley Park
DESCRIPTION:Come help us plant another 10 trees as part of our Gulfstream Grows annual planting series\, proudly sponsored by Gulfstream Aerospace! This event is a wonderful opportunity to give back to the community\, enhance our local green spaces\, and meet new people.\nWe appreciate your support and hope to see you there!\nClick Here to Register!\n \n 
URL:https://savannahtree.org/event/della-m-stelle-park-planting/
LOCATION:Lewis C. Mobley Park\, 303 Armadale Rd\, Port Wentworth\, geor\, 31407\, United States
CATEGORIES:Learning Event,Outreach Event,Planting Initiatives
ORGANIZER;CN="Savannah Tree Foundation":MAILTO:info@savannahtree.com
END:VEVENT
BEGIN:VEVENT
DTSTART;TZID=UTC:20250412T090000
DTEND;TZID=UTC:20250412T120000
DTSTAMP:20260423T230602
CREATED:20250401T143207Z
LAST-MODIFIED:20250409T183538Z
UID:236907-1744448400-1744459200@savannahtree.org
SUMMARY:Armadale Park Planting Phase 2
DESCRIPTION:Come help us plant another 25 trees as part of our Gulfstream Grows annual planting series\, proudly sponsored by Gulfstream Aerospace! This event is a wonderful opportunity to give back to the community\, enhance our local green spaces\, and meet new people.\nWe appreciate your support and hope to see you there!\nClick Here to Sign Up!
URL:https://savannahtree.org/event/armadale-park-planting-phase-2/
LOCATION:Armadale Walking Path\, 398 Cantyre St\, Port Wentworth\, Georgia\, 31407
CATEGORIES:Planting Initiatives
END:VEVENT
BEGIN:VEVENT
DTSTART;TZID=UTC:20250405T090000
DTEND;TZID=UTC:20250405T110000
DTSTAMP:20260423T230602
CREATED:20250130T180416Z
LAST-MODIFIED:20250401T150601Z
UID:236819-1743843600-1743850800@savannahtree.org
SUMMARY:Bluff Drive Neighborhood Planting
DESCRIPTION:Join us to plant six 30gal live oaks along this historic roadway. Holes will be dug by volunteers so be prepared to get dirty!\nClick Here to Sign Up!
URL:https://savannahtree.org/event/gulfstream-grows-planting-5/
LOCATION:Bluff Drive\, 50 W Bluff Dr\, Savannah\, GA\, 31406\, United States
CATEGORIES:Learning Event,Planting Initiatives
ORGANIZER;CN="Savannah Tree Foundation":MAILTO:info@savannahtree.com
END:VEVENT
BEGIN:VEVENT
DTSTART;TZID=UTC:20250308T090000
DTEND;TZID=UTC:20250308T110000
DTSTAMP:20260423T230602
CREATED:20250225T151738Z
LAST-MODIFIED:20250227T190050Z
UID:236837-1741424400-1741431600@savannahtree.org
SUMMARY:Al Bungard Planting
DESCRIPTION:Join us for the last Gulfstream Sponsored tree planting of 2025. This is STF’s phase 2 planting at Al Bungard Conservation Area composed of 30 trees alongside the pond. We hope to see you there.\nSign Up Today!
URL:https://savannahtree.org/event/gulfstream-grows-planting-3/
LOCATION:Al Bungard Conservation Area\, 6700 Chief Of Love Road\, Savannah\, GA\, 31419\, United States
CATEGORIES:Learning Event,Outreach Event,Planting Initiatives
END:VEVENT
BEGIN:VEVENT
DTSTART;VALUE=DATE:20250301
DTEND;VALUE=DATE:20250302
DTSTAMP:20260423T230602
CREATED:20250225T150813Z
LAST-MODIFIED:20250225T150833Z
UID:236834-1740787200-1740873599@savannahtree.org
SUMMARY:CANCELED: Mighty Eighth Planting
DESCRIPTION:Due to construction complications at this sight\, we will be canceling the Mighty Eighth planting for 2025. We apologize for any inconveniences. We will be having one more Gulfstream Planting. Look out for that posting and we hope to see you soon!
URL:https://savannahtree.org/event/canceled-mighty-eighth-planting/
LOCATION:Georgia
END:VEVENT
BEGIN:VEVENT
DTSTART;TZID=UTC:20250222T090000
DTEND;TZID=UTC:20250222T110000
DTSTAMP:20260423T230602
CREATED:20250129T151218Z
LAST-MODIFIED:20250225T135955Z
UID:236810-1740214800-1740222000@savannahtree.org
SUMMARY:Memorial Park Planting
DESCRIPTION:We are planting another 30 trees at Pooler Memorial Park! Sign up early to volunteer for this event! This planting has been sponsored by Gulfstream Aerospace.\nClick Here to Sign Up!
URL:https://savannahtree.org/event/gulfstream-grows-planting-4/
LOCATION:Pooler Memorial Park\, 1033 W Hwy 80\, Pooler\, GA\, 31322\, United States
CATEGORIES:Learning Event,Planting Initiatives
ORGANIZER;CN="Savannah Tree Foundation":MAILTO:info@savannahtree.com
END:VEVENT
BEGIN:VEVENT
DTSTART;TZID=UTC:20250215T090000
DTEND;TZID=UTC:20250215T110000
DTSTAMP:20260423T230602
CREATED:20250128T223619Z
LAST-MODIFIED:20250130T173817Z
UID:236800-1739610000-1739617200@savannahtree.org
SUMMARY:L. Scott Stell Park Planting
DESCRIPTION:Come help us plant another 30 trees as part of our Gulfstream Grows annual planting series\, proudly sponsored by Gulfstream Aerospace! This event is a wonderful opportunity to give back to the community\, enhance our local green spaces\, and meet new people.\nWe appreciate your support and hope to see you there!\nClick Here to Sign Up!
URL:https://savannahtree.org/event/gulfstream-grows-planting-2/
LOCATION:L. Scott Stell Park\, 195 Scott Stell Rd\, Savannah\, GA\, 31419\, United States
CATEGORIES:Learning Event,Planting Initiatives
END:VEVENT
BEGIN:VEVENT
DTSTART;TZID=UTC:20250208T090000
DTEND;TZID=UTC:20250208T110000
DTSTAMP:20260423T230602
CREATED:20250128T221732Z
LAST-MODIFIED:20250130T173934Z
UID:236786-1739005200-1739012400@savannahtree.org
SUMMARY:Tom Triplett Park Planting
DESCRIPTION:Come help us plant 30 trees as part of our Gulfstream Grows annual planting series\, proudly sponsored by Gulfstream Aerospace! This event is a wonderful opportunity to give back to the community\, enhance our local green spaces\, and meet new people.\nWe appreciate your support and hope to see you there!\nClick Here to Sign Up!
URL:https://savannahtree.org/event/gulfstream-grows-planting/
LOCATION:Tom Triplett Community Park\, 100 Tom Triplett Rd\, Pooler\, GA\, 31322\, United States
CATEGORIES:Learning Event,Planting Initiatives
END:VEVENT
BEGIN:VEVENT
DTSTART;TZID=UTC:20250201T090000
DTEND;TZID=UTC:20250201T110000
DTSTAMP:20260423T230602
CREATED:20250109T173017Z
LAST-MODIFIED:20250128T175218Z
UID:236770-1738400400-1738407600@savannahtree.org
SUMMARY:Mother Matilda Beasley Park Planting
DESCRIPTION:Join us this Saturday morning for a planting at one of Savannah’s popular parks in downtown\, Mother Matilda Beasley. We are seeking volunteers to help us plant 25 native shade trees to fill this urban green space with shade and scenic beauty.\nSign Up Today!
URL:https://savannahtree.org/event/mother-matilda-beasley-park-planting/
LOCATION:Mother Matilda Beasley Park\, 500 E Broad St\, Savannah\, GA\, 31401\, United States
CATEGORIES:Learning Event,Planting Initiatives
ORGANIZER;CN="Savannah Tree Foundation":MAILTO:info@savannahtree.com
END:VEVENT
BEGIN:VEVENT
DTSTART;VALUE=DATE:20250125
DTEND;VALUE=DATE:20250126
DTSTAMP:20260423T230602
CREATED:20250128T225343Z
LAST-MODIFIED:20250128T225343Z
UID:236805-1737763200-1737849599@savannahtree.org
SUMMARY:SNOW DAY!
DESCRIPTION:
URL:https://savannahtree.org/event/snow-day/
LOCATION:Georgia
END:VEVENT
BEGIN:VEVENT
DTSTART;TZID=UTC:20250118T090000
DTEND;TZID=UTC:20250118T110000
DTSTAMP:20260423T230602
CREATED:20250109T163816Z
LAST-MODIFIED:20250109T165825Z
UID:236760-1737190800-1737198000@savannahtree.org
SUMMARY:Laurel Grove Cemetary Planting
DESCRIPTION:In honor of MLK Day\, this year we have dedicated a planting of 30 new trees this Saturday! Come spend your day planting tree giving back to your community in remembrance of Martin Luther King Jr. This planting will take place in one of Savannah’s oldest and historically all black Cemetaries. \nSign up today! \n 
URL:https://savannahtree.org/event/laurel-grove-cemetary-planting/
LOCATION:Laurel Grove Cemetary\, 802 W Anderson St\, Savannah\, GA\, 31415\, United States
CATEGORIES:Learning Event,Planting Initiatives
ORGANIZER;CN="Savannah Tree Foundation":MAILTO:info@savannahtree.com
END:VEVENT
BEGIN:VEVENT
DTSTART;TZID=UTC:20241214T090000
DTEND;TZID=UTC:20241214T110000
DTSTAMP:20260423T230602
CREATED:20241118T165438Z
LAST-MODIFIED:20241210T214214Z
UID:236600-1734166800-1734174000@savannahtree.org
SUMMARY:Final Tree Planting of 2024! Vicksburg Pond
DESCRIPTION:Join us on Saturday\, December 14\, for the final tree planting of 2024! This planting will be at the intersection of Vicksburg Drive and Derenne. We will be adding 60 trees to Chatham County’s urban canopy! Come help out by signing up below. \nSign Up Here
URL:https://savannahtree.org/event/final-tree-planting-of-2024/
LOCATION:Vicksburg Planting\, 32°01'07.6"N 81°04'08.0"W
CATEGORIES:Learning Event,Planting Initiatives
ORGANIZER;CN="Savannah Tree Foundation":MAILTO:info@savannahtree.com
END:VEVENT
BEGIN:VEVENT
DTSTART;TZID=UTC:20241207T090000
DTEND;TZID=UTC:20241207T170000
DTSTAMP:20260423T230602
CREATED:20241118T165005Z
LAST-MODIFIED:20241118T165005Z
UID:236597-1733562000-1733590800@savannahtree.org
SUMMARY:Santa Train @ Georgia State Railroad Museum
DESCRIPTION:We’re joining our friends at Coastal Heritage Society for the annual holiday celebration\, Santa Train! Be sure to get your tickets before they sell out. \nSavannah Santa Train\, an annual favorite holiday family event\, returns on Saturday\, December 7th\, 2024 from 9 am to 5 pm at Georgia State Railroad Museum\, located at 655 Louisville Rd.\, Savannah\, GA. \nFestive activities and entertainment include a holiday-themed diesel locomotive train ride experience\, live demonstrations by Lowcountry Turners artfully hand-crafting spinning tops available for purchase\, Christmas tree activities with Savannah Tree Foundation\, Toy Soldier Training\, and decorate a holiday card to send to families at the Ronald McDonald House Charities of the Lowcountry. Santa Claus will visit with all the children and hear their Christmas wishes. \nBowtie BBQ\, Top Dog\, Popcorn Geeks food trucks\, and Leopold’s Ice Cream will be on-site to meet all your food needs. \nSavannah Santa Train is hosted each year by Georgia State Railroad Museum and Savannah Children’s Museum\, both operated by Coastal Heritage Society.
URL:https://savannahtree.org/event/santa-train/
LOCATION:Georgia State Railroad Museum\, 655 Louisville Rd\, Savannah\, GA\, 31408\, United States
ORGANIZER;CN="Savannah Tree Foundation":MAILTO:info@savannahtree.com
END:VEVENT
BEGIN:VEVENT
DTSTART;TZID=UTC:20241123T090000
DTEND;TZID=UTC:20241123T110000
DTSTAMP:20260423T230602
CREATED:20240910T174736Z
LAST-MODIFIED:20241115T203903Z
UID:236461-1732352400-1732359600@savannahtree.org
SUMMARY:Frank Callen Boys & Girls Club Planting
DESCRIPTION:Volunteer to help plant 5 trees and install additional landscaping to improve curb appeal!\nSign Up!
URL:https://savannahtree.org/event/november-tree-planting-3/
LOCATION:Frank Callen Boys & Girls Club\, 510 E Charlton St.\, Savannah\, GA\, 31401\, United States
CATEGORIES:Learning Event,Planting Initiatives
ORGANIZER;CN="Savannah Tree Foundation":MAILTO:info@savannahtree.com
END:VEVENT
BEGIN:VEVENT
DTSTART;TZID=UTC:20241116T130000
DTEND;TZID=UTC:20241116T160000
DTSTAMP:20260423T230602
CREATED:20240910T174608Z
LAST-MODIFIED:20241115T203745Z
UID:236459-1731762000-1731772800@savannahtree.org
SUMMARY:Tricentennial Park Planting
DESCRIPTION:Help plant 25 trees across Georgia State Railroad Museum\, Battlefield Park\, and Savannah Children’s Museum\nSign Up!
URL:https://savannahtree.org/event/november-tree-planting-2/
LOCATION:Georgia State Railroad Museum\, 655 Louisville Rd\, Savannah\, GA\, 31408\, United States
CATEGORIES:Planting Initiatives
ORGANIZER;CN="Savannah Tree Foundation":MAILTO:info@savannahtree.com
END:VEVENT
BEGIN:VEVENT
DTSTART;TZID=UTC:20241109T090000
DTEND;TZID=UTC:20241109T120000
DTSTAMP:20260423T230602
CREATED:20240910T174159Z
LAST-MODIFIED:20241010T145854Z
UID:236457-1731142800-1731153600@savannahtree.org
SUMMARY:Retha Mae McCoy Planting
DESCRIPTION:Join us for a morning under the leaves! Help plant trees in our local community park.\n\n\n\n\nSign Up Here
URL:https://savannahtree.org/event/november-tree-planting-1/
LOCATION:Retha Mae McCoy Park\, 240 Riverview Rd\, Savannah\, GA\, 31404\, United States
CATEGORIES:Learning Event,Outreach Event,Planting Initiatives
ORGANIZER;CN="Savannah Tree Foundation":MAILTO:info@savannahtree.com
END:VEVENT
BEGIN:VEVENT
DTSTART;TZID=UTC:20241102T090000
DTEND;TZID=UTC:20241102T120000
DTSTAMP:20260423T230602
CREATED:20241010T135938Z
LAST-MODIFIED:20241010T135938Z
UID:236525-1730538000-1730548800@savannahtree.org
SUMMARY:STF Nursery Day!
DESCRIPTION:Come on down to help us up pot some baby trees at our nursery!
URL:https://savannahtree.org/event/stf-nursery-day/
LOCATION:STF Nursery\, E Presidents St. and Kemira Rd.\, Savannah\, Georgia\, 31404
CATEGORIES:Learning Event,Nursery Projects,Outreach Event
ORGANIZER;CN="Savannah Tree Foundation":MAILTO:info@savannahtree.com
END:VEVENT
BEGIN:VEVENT
DTSTART;TZID=UTC:20241026T090000
DTEND;TZID=UTC:20241026T120000
DTSTAMP:20260423T230602
CREATED:20240910T173709Z
LAST-MODIFIED:20241008T180212Z
UID:236448-1729933200-1729944000@savannahtree.org
SUMMARY:Trick or Trees 2024
DESCRIPTION:This year\, we will host our fall tree giveaway\, Trick or Trees\, at the International Tree Climbing Competition in Daffin Park. Come on out to get your free tree and check out some champion climbers! \nAvailable tree species inclue: Ann magnolia\, Bald cypress\, Eastern redbud\, Jane magnolia\, Live oak\, Longleaf pine\, Overcup oak\, Persimmon\, Red maple\, Tulip poplar\, Tupelo\, and White oak \n 
URL:https://savannahtree.org/event/trick-or-trees-2024/
LOCATION:Daffin Park\, E Victory Dr\, Savannah\, Georgia\, 31404
CATEGORIES:Outreach Event
ATTACH;FMTTYPE=image/png:https://savannahtree.org/wp-content/uploads/2024/09/trick-or-trees-2024-insta-01.png
END:VEVENT
BEGIN:VEVENT
DTSTART;VALUE=DATE:20241025
DTEND;VALUE=DATE:20241026
DTSTAMP:20260423T230602
CREATED:20241010T133746Z
LAST-MODIFIED:20241010T135622Z
UID:236520-1729814400-1729900799@savannahtree.org
SUMMARY:ITCC Climbing Competition
DESCRIPTION:Come stop by our tent at the ITCC Climbing Competition at Daffin Park!
URL:https://savannahtree.org/event/itcc-climbing-competition/
LOCATION:Daffin Park\, E Victory Dr\, Savannah\, Georgia\, 31404
END:VEVENT
BEGIN:VEVENT
DTSTART;TZID=UTC:20241024T170000
DTEND;TZID=UTC:20241024T190000
DTSTAMP:20260423T230602
CREATED:20240920T180013Z
LAST-MODIFIED:20240926T131119Z
UID:236496-1729789200-1729796400@savannahtree.org
SUMMARY:Tree Huggers + Beer Chuggers 2024
DESCRIPTION:Everyone’s favorite fall friend-raiser is back and better than ever! Join us at Hester & Zipperer for our 2024 Tree Huggers & Beer Chuggers event! Spend time with your favorite tree huggers and meet new tree friends at this casual event. $5 gets you in the door. $30 gets you a beer voucher for the night. 100% of proceeds support Savannah Tree Foundation and its planting efforts. \nBowtie BBQ will be on site for food purchases. \nGet your tickets here. 
URL:https://savannahtree.org/event/tree-huggers-beer-chuggers-2024/
LOCATION:Hester & Zipperer\, 6719 Skidaway Road\, Savannah\, GS\, 31406
CATEGORIES:Fundraiser
ATTACH;FMTTYPE=image/png:https://savannahtree.org/wp-content/uploads/2024/09/Tree-Huggers-Beer-Chuggers-24-2.png
ORGANIZER;CN="Savannah Tree Foundation":MAILTO:info@savannahtree.com
END:VEVENT
BEGIN:VEVENT
DTSTART;TZID=UTC:20241020T110000
DTEND;TZID=UTC:20241020T150000
DTSTAMP:20260423T230602
CREATED:20241010T130425Z
LAST-MODIFIED:20241010T130425Z
UID:236516-1729422000-1729436400@savannahtree.org
SUMMARY:Frogwarts
DESCRIPTION:Come see STF at Frogwarts this year put on by Coastal Heritage Society! 
URL:https://savannahtree.org/event/frogwarts/
LOCATION:Georgia State Railroad Museum\, 655 Louisville Rd\, Savannah\, GA\, 31408\, United States
CATEGORIES:Learning Event,Outreach Event
END:VEVENT
BEGIN:VEVENT
DTSTART;TZID=UTC:20241019T100000
DTEND;TZID=UTC:20241019T160000
DTSTAMP:20260423T230602
CREATED:20241010T125359Z
LAST-MODIFIED:20241010T125557Z
UID:236512-1729332000-1729353600@savannahtree.org
SUMMARY:Gulfstream Family Day
DESCRIPTION:STF is hosting a 2\,000 tree potting giveaway at Gulfstream Family Day this year! Come down and see us!
URL:https://savannahtree.org/event/gulfstream-family-day/
LOCATION:Gulfstream\, 251 Robert B Miller Rd\, Savannah\, 31408\, United States
CATEGORIES:Fundraiser,Learning Event,Nursery Projects,Outreach Event,Planting Initiatives
END:VEVENT
BEGIN:VEVENT
DTSTART;TZID=UTC:20241012T100000
DTEND;TZID=UTC:20241012T150000
DTSTAMP:20260423T230602
CREATED:20240920T174726Z
LAST-MODIFIED:20240920T180257Z
UID:236489-1728727200-1728745200@savannahtree.org
SUMMARY:Skidaway Marine Science Day
DESCRIPTION:Stop by our table at the Skidaway Marine Science Day! The open house of the UGA Skidaway Marine Science campus will be have free admission to the UGA Aquarium\, hands-on activities for all ages\, and booths from local environmental groups. Get more information here: https://www.skio.uga.edu/event/skidaway-marine-science-day-2/
URL:https://savannahtree.org/event/skidaway-marine-science-day/
LOCATION:Georgia
CATEGORIES:Outreach Event
ATTACH;FMTTYPE=image/png:https://savannahtree.org/wp-content/uploads/2024/09/skidaway-marine.png
END:VEVENT
BEGIN:VEVENT
DTSTART;TZID=UTC:20241012T100000
DTEND;TZID=UTC:20241012T140000
DTSTAMP:20260423T230602
CREATED:20240920T175151Z
LAST-MODIFIED:20240920T180308Z
UID:236492-1728727200-1728741600@savannahtree.org
SUMMARY:Coastal Empire Habitat for Humanity Block Party
DESCRIPTION:This family-friendly event is all about celebrating our current homeowners and educating future ones on the benefits\, requirements\, and expectations of owning a Habitat home. STF will have a booth promoting our Chatham Canopy Corps apprenticeship and planting program. More info here: https://www.habitatsavannah.org/events.html
URL:https://savannahtree.org/event/habitat-block-party/
LOCATION:Georgia
CATEGORIES:Outreach Event
ATTACH;FMTTYPE=image/png:https://savannahtree.org/wp-content/uploads/2024/09/block-party-flyer-instagram-post.png
END:VEVENT
BEGIN:VEVENT
DTSTART;TZID=UTC:20241005T100000
DTEND;TZID=UTC:20241005T140000
DTSTAMP:20260423T230602
CREATED:20240920T155208Z
LAST-MODIFIED:20240920T180325Z
UID:236484-1728122400-1728136800@savannahtree.org
SUMMARY:Isle of Hope Garden Tour
DESCRIPTION:Come visit our table at the Isle of Hope Garden Tour and see some of the beautiful gardens of Isle of Hope! Find more details and buy tickets here: https://isleofhopegardentour.org/
URL:https://savannahtree.org/event/iohgardentour/
LOCATION:Georgia
CATEGORIES:Outreach Event
ATTACH;FMTTYPE=image/png:https://savannahtree.org/wp-content/uploads/2024/09/ioh-garden-tour.png
END:VEVENT
BEGIN:VEVENT
DTSTART;TZID=UTC:20240928T100000
DTEND;TZID=UTC:20240928T160000
DTSTAMP:20260423T230602
CREATED:20240920T154146Z
LAST-MODIFIED:20240920T154146Z
UID:236480-1727517600-1727539200@savannahtree.org
SUMMARY:Gordonston Art Fair
DESCRIPTION:Come visit our table at the Gordonston Art Fair! We’ll be chatting about our fall events\, selling locally-designed ornaments\, and showing off some new merch.
URL:https://savannahtree.org/event/gordonston-art-fair/
LOCATION:Georgia
CATEGORIES:Outreach Event
ATTACH;FMTTYPE=application/pdf:https://savannahtree.org/wp-content/uploads/2024/09/GORAF-poster2024_proof3.pdf
END:VEVENT
BEGIN:VEVENT
DTSTART;TZID=UTC:20240925T173000
DTEND;TZID=UTC:20240925T190000
DTSTAMP:20260423T230602
CREATED:20240910T170815Z
LAST-MODIFIED:20240920T153815Z
UID:236442-1727285400-1727290800@savannahtree.org
SUMMARY:RESCHEDULED - September Canopy Crawl
DESCRIPTION:Arborist Jake Henry will lead an evening tree walk\, sharing facts about the tree canopy that defines our downtown. Take advantage of Savannah’s open container laws and grab a glass of beer or wine to take along for the stroll. \n\n\n\n\n\nSign Up Here\n 
URL:https://savannahtree.org/event/september-canopy-crawl/
LOCATION:Rancho Alegre\, 402 Martin Luther King Jr Blvd\, Savannah\, GA\, 31401\, United States
CATEGORIES:Learning Event,Outreach Event
ATTACH;FMTTYPE=image/png:https://savannahtree.org/wp-content/uploads/2024/09/Canopy-Crawl-Sept-2024_resched.png
END:VEVENT
BEGIN:VEVENT
DTSTART;TZID=UTC:20240727T090000
DTEND;TZID=UTC:20240727T120000
DTSTAMP:20260423T230602
CREATED:20240410T190502Z
LAST-MODIFIED:20240722T151722Z
UID:236329-1722070800-1722081600@savannahtree.org
SUMMARY:Tree Paddle
DESCRIPTION:Enjoy a 3-hour paddle tour of Ebenezer Creek\, co-hosted by Wilderness Southeast and Savannah Tree Foundation! Learn more about the bald cypress and tupelo stands that line this historic waterway. \nSign Up Here!
URL:https://savannahtree.org/event/tree-paddle/
LOCATION:Ebenezer Creek (Tommy Long Boat Ramp)\, 1 Tommy Long Road\, Rincon\, GA\, 31326\, United States
CATEGORIES:Learning Event,Outreach Event
ORGANIZER;CN="Savannah Tree Foundation":MAILTO:info@savannahtree.com
END:VEVENT
BEGIN:VEVENT
DTSTART;TZID=UTC:20240724T173000
DTEND;TZID=UTC:20240724T190000
DTSTAMP:20260423T230602
CREATED:20240619T184821Z
LAST-MODIFIED:20240718T142108Z
UID:236385-1721842200-1721847600@savannahtree.org
SUMMARY:July Canopy Crawl
DESCRIPTION:Arborist Kris Johnston will lead an evening tree walk\, sharing facts about the tree canopy that defines our downtown. Take advantage of Savannah’s open container laws and grab a glass of beer or wine to take along for the stroll. \n\n\nSign Up Here
URL:https://savannahtree.org/event/july-canopy-crawl/
LOCATION:Savoy Society\, 102 E Liberty #109\, Savannah\, GA\, 31401\, United States
CATEGORIES:Learning Event,Outreach Event
ORGANIZER;CN="Savannah Tree Foundation":MAILTO:info@savannahtree.com
END:VEVENT
BEGIN:VEVENT
DTSTART;TZID=UTC:20240612T173000
DTEND;TZID=UTC:20240612T190000
DTSTAMP:20260423T230602
CREATED:20240531T181713Z
LAST-MODIFIED:20240531T182211Z
UID:236380-1718213400-1718218800@savannahtree.org
SUMMARY:Canopy Crawl
DESCRIPTION:Arborist Kris Johnston will lead an evening tree walk\, sharing facts about the tree canopy that defines our downtown. Take advantage of Savannah’s open container laws and grab a glass of beer or wine to take along for the stroll. \n\n\nSign Up Here
URL:https://savannahtree.org/event/236380/
LOCATION:Savannah Taphouse\, 125 E Broughton St.\, Savannah\, GA\, 31401\, United States
CATEGORIES:Learning Event,Outreach Event
ORGANIZER;CN="Savannah Tree Foundation":MAILTO:info@savannahtree.com
END:VEVENT
END:VCALENDAR